BEGIN:VCALENDAR
VERSION:2.0
PRODID:-//North London Scout District - ECPv6.15.20//NONSGML v1.0//EN
CALSCALE:GREGORIAN
METHOD:PUBLISH
X-ORIGINAL-URL:https://londonscouts.org.uk
X-WR-CALDESC:Events for North London Scout District
REFRESH-INTERVAL;VALUE=DURATION:PT1H
X-Robots-Tag:noindex
X-PUBLISHED-TTL:PT1H
BEGIN:VTIMEZONE
TZID:Europe/London
BEGIN:DAYLIGHT
TZOFFSETFROM:+0000
TZOFFSETTO:+0100
TZNAME:BST
DTSTART:20200329T010000
END:DAYLIGHT
BEGIN:STANDARD
TZOFFSETFROM:+0100
TZOFFSETTO:+0000
TZNAME:GMT
DTSTART:20201025T010000
END:STANDARD
BEGIN:DAYLIGHT
TZOFFSETFROM:+0000
TZOFFSETTO:+0100
TZNAME:BST
DTSTART:20210328T010000
END:DAYLIGHT
BEGIN:STANDARD
TZOFFSETFROM:+0100
TZOFFSETTO:+0000
TZNAME:GMT
DTSTART:20211031T010000
END:STANDARD
BEGIN:DAYLIGHT
TZOFFSETFROM:+0000
TZOFFSETTO:+0100
TZNAME:BST
DTSTART:20220327T010000
END:DAYLIGHT
BEGIN:STANDARD
TZOFFSETFROM:+0100
TZOFFSETTO:+0000
TZNAME:GMT
DTSTART:20221030T010000
END:STANDARD
END:VTIMEZONE
BEGIN:VEVENT
DTSTART;TZID=Europe/London:20210717T080000
DTEND;TZID=Europe/London:20210718T170000
DTSTAMP:20260423T235046
CREATED:20210308T122946Z
LAST-MODIFIED:20210607T210637Z
UID:1372-1626508800-1626627600@londonscouts.org.uk
SUMMARY:County Young Leaders Training Day
DESCRIPTION:
URL:https://londonscouts.org.uk/event/county-young-leaders-training-day-2/
CATEGORIES:Training Opportunities
END:VEVENT
BEGIN:VEVENT
DTSTART;TZID=Europe/London:20210706T080000
DTEND;TZID=Europe/London:20210706T170000
DTSTAMP:20260423T235046
CREATED:20210308T124750Z
LAST-MODIFIED:20210308T124750Z
UID:1395-1625558400-1625590800@londonscouts.org.uk
SUMMARY:County Toung Leader Training Day
DESCRIPTION:
URL:https://londonscouts.org.uk/event/county-toung-leader-training-day/
CATEGORIES:Training Opportunities
END:VEVENT
BEGIN:VEVENT
DTSTART;TZID=Europe/London:20210610T080000
DTEND;TZID=Europe/London:20210610T170000
DTSTAMP:20260423T235046
CREATED:20210308T123941Z
LAST-MODIFIED:20210308T123941Z
UID:1383-1623312000-1623344400@londonscouts.org.uk
SUMMARY:County Young Leader Training
DESCRIPTION:
URL:https://londonscouts.org.uk/event/county-young-leader-training/
CATEGORIES:Training Opportunities
END:VEVENT
BEGIN:VEVENT
DTSTART;TZID=Europe/London:20210427T080000
DTEND;TZID=Europe/London:20210427T170000
DTSTAMP:20260423T235046
CREATED:20210308T122637Z
LAST-MODIFIED:20210308T130758Z
UID:1368-1619510400-1619542800@londonscouts.org.uk
SUMMARY:County Young Leaders Training Day
DESCRIPTION:
URL:https://londonscouts.org.uk/event/county-young-leaders-training-day/
LOCATION:Zoom
CATEGORIES:Training Opportunities
END:VEVENT
BEGIN:VEVENT
DTSTART;VALUE=DATE:20210127
DTEND;VALUE=DATE:20210128
DTSTAMP:20260423T235046
CREATED:20210110T144755Z
LAST-MODIFIED:20210110T145827Z
UID:976-1611705600-1611791999@londonscouts.org.uk
SUMMARY:TA Forum
DESCRIPTION:
URL:https://londonscouts.org.uk/event/ta-forum-2/
LOCATION:Zoom
CATEGORIES:Training Opportunities
END:VEVENT
BEGIN:VEVENT
DTSTART;VALUE=DATE:20210125
DTEND;VALUE=DATE:20210126
DTSTAMP:20260423T235046
CREATED:20210110T144730Z
LAST-MODIFIED:20210110T144730Z
UID:975-1611532800-1611619199@londonscouts.org.uk
SUMMARY:TA Forum
DESCRIPTION:
URL:https://londonscouts.org.uk/event/ta-forum/
LOCATION:Zoom
CATEGORIES:Training Opportunities
END:VEVENT
END:VCALENDAR