BEGIN:VCALENDAR
VERSION:2.0
PRODID:-//North London Scout District - ECPv6.15.20//NONSGML v1.0//EN
CALSCALE:GREGORIAN
METHOD:PUBLISH
X-WR-CALNAME:North London Scout District
X-ORIGINAL-URL:https://londonscouts.org.uk
X-WR-CALDESC:Events for North London Scout District
REFRESH-INTERVAL;VALUE=DURATION:PT1H
X-Robots-Tag:noindex
X-PUBLISHED-TTL:PT1H
BEGIN:VTIMEZONE
TZID:Europe/London
BEGIN:DAYLIGHT
TZOFFSETFROM:+0000
TZOFFSETTO:+0100
TZNAME:BST
DTSTART:20200329T010000
END:DAYLIGHT
BEGIN:STANDARD
TZOFFSETFROM:+0100
TZOFFSETTO:+0000
TZNAME:GMT
DTSTART:20201025T010000
END:STANDARD
BEGIN:DAYLIGHT
TZOFFSETFROM:+0000
TZOFFSETTO:+0100
TZNAME:BST
DTSTART:20210328T010000
END:DAYLIGHT
BEGIN:STANDARD
TZOFFSETFROM:+0100
TZOFFSETTO:+0000
TZNAME:GMT
DTSTART:20211031T010000
END:STANDARD
BEGIN:DAYLIGHT
TZOFFSETFROM:+0000
TZOFFSETTO:+0100
TZNAME:BST
DTSTART:20220327T010000
END:DAYLIGHT
BEGIN:STANDARD
TZOFFSETFROM:+0100
TZOFFSETTO:+0000
TZNAME:GMT
DTSTART:20221030T010000
END:STANDARD
END:VTIMEZONE
BEGIN:VEVENT
DTSTART;TZID=Europe/London:20211104T080000
DTEND;TZID=Europe/London:20211104T170000
DTSTAMP:20260423T234719
CREATED:20210308T130309Z
LAST-MODIFIED:20210308T130309Z
UID:1419-1636012800-1636045200@londonscouts.org.uk
SUMMARY:Group Scout Leader Meeting
DESCRIPTION:
URL:https://londonscouts.org.uk/event/group-scout-leader-meeting/
CATEGORIES:GSL Meetings
END:VEVENT
BEGIN:VEVENT
DTSTART;TZID=Europe/London:20211022T190000
DTEND;TZID=Europe/London:20211022T210000
DTSTAMP:20260423T234719
CREATED:20210308T130137Z
LAST-MODIFIED:20210308T130137Z
UID:1417-1634929200-1634936400@londonscouts.org.uk
SUMMARY:Scout & Explorer Drop In
DESCRIPTION:
URL:https://londonscouts.org.uk/event/scout-explorer-drop-in-2/
CATEGORIES:Optional Leader Drop In Sessions
END:VEVENT
BEGIN:VEVENT
DTSTART;TZID=Europe/London:20211021T190000
DTEND;TZID=Europe/London:20211021T210000
DTSTAMP:20260423T234719
CREATED:20210308T130016Z
LAST-MODIFIED:20210308T130016Z
UID:1415-1634842800-1634850000@londonscouts.org.uk
SUMMARY:Beaver & Cub Drop In
DESCRIPTION:
URL:https://londonscouts.org.uk/event/beaver-cub-drop-in-2/
CATEGORIES:Optional Leader Drop In Sessions
END:VEVENT
BEGIN:VEVENT
DTSTART;TZID=Europe/London:20211020T190000
DTEND;TZID=Europe/London:20211020T210000
DTSTAMP:20260423T234719
CREATED:20210308T125852Z
LAST-MODIFIED:20210308T125852Z
UID:1413-1634756400-1634763600@londonscouts.org.uk
SUMMARY:GSL & Executive Drop in
DESCRIPTION:
URL:https://londonscouts.org.uk/event/gsl-executive-drop-in/
CATEGORIES:Optional Leader Drop In Sessions
END:VEVENT
BEGIN:VEVENT
DTSTART;TZID=Europe/London:20210906T190000
DTEND;TZID=Europe/London:20210906T210000
DTSTAMP:20260423T234719
CREATED:20210308T125227Z
LAST-MODIFIED:20210308T125227Z
UID:1401-1630954800-1630962000@londonscouts.org.uk
SUMMARY:All adults meeting
DESCRIPTION:
URL:https://londonscouts.org.uk/event/all-adults-meeting/
CATEGORIES:All Leaders Meeting
END:VEVENT
BEGIN:VEVENT
DTSTART;TZID=Europe/London:20210622T080000
DTEND;TZID=Europe/London:20210622T170000
DTSTAMP:20260423T234719
CREATED:20210308T124627Z
LAST-MODIFIED:20210308T124627Z
UID:1393-1624348800-1624381200@londonscouts.org.uk
SUMMARY:GSL Meeting
DESCRIPTION:
URL:https://londonscouts.org.uk/event/gsl-meeting-3/
CATEGORIES:GSL Meetings
END:VEVENT
BEGIN:VEVENT
DTSTART;TZID=Europe/London:20210613T193000
DTEND;TZID=Europe/London:20210613T210000
DTSTAMP:20260423T234719
CREATED:20210308T124511Z
LAST-MODIFIED:20210318T124138Z
UID:1391-1623612600-1623618000@londonscouts.org.uk
SUMMARY:District AGM
DESCRIPTION:
URL:https://londonscouts.org.uk/event/leaders-social-district-agm/
LOCATION:Zoom
CATEGORIES:Executive Meetings
END:VEVENT
BEGIN:VEVENT
DTSTART;TZID=Europe/London:20210611T190000
DTEND;TZID=Europe/London:20210611T210000
DTSTAMP:20260423T234719
CREATED:20210308T124107Z
LAST-MODIFIED:20210308T124107Z
UID:1385-1623438000-1623445200@londonscouts.org.uk
SUMMARY:Beaver & Cub Drop In
DESCRIPTION:
URL:https://londonscouts.org.uk/event/beaver-cub-drop-in/
CATEGORIES:Optional Leader Drop In Sessions
END:VEVENT
BEGIN:VEVENT
DTSTART;TZID=Europe/London:20210610T190000
DTEND;TZID=Europe/London:20210610T210000
DTSTAMP:20260423T234719
CREATED:20210308T123438Z
LAST-MODIFIED:20210308T123544Z
UID:1378-1623351600-1623358800@londonscouts.org.uk
SUMMARY:Group Scout Leader & Executive members Drop In
DESCRIPTION:
URL:https://londonscouts.org.uk/event/scouts-explorer-drop-in/
LOCATION:Zoom
CATEGORIES:Optional Leader Drop In Sessions
END:VEVENT
BEGIN:VEVENT
DTSTART;TZID=Europe/London:20210609T190000
DTEND;TZID=Europe/London:20210609T210000
DTSTAMP:20260423T234719
CREATED:20210308T123731Z
LAST-MODIFIED:20210308T123731Z
UID:1381-1623265200-1623272400@londonscouts.org.uk
SUMMARY:Scout & Explorer Drop In
DESCRIPTION:
URL:https://londonscouts.org.uk/event/scout-explorer-drop-in/
CATEGORIES:Optional Leader Drop In Sessions
END:VEVENT
BEGIN:VEVENT
DTSTART;TZID=Europe/London:20210418T190000
DTEND;TZID=Europe/London:20210418T210000
DTSTAMP:20260423T234719
CREATED:20210308T122122Z
LAST-MODIFIED:20210308T130823Z
UID:1364-1618772400-1618779600@londonscouts.org.uk
SUMMARY:All Leaders Meeting
DESCRIPTION:
URL:https://londonscouts.org.uk/event/all-leaders-meeting-2/
LOCATION:Zoom
CATEGORIES:All Leaders Meeting
END:VEVENT
BEGIN:VEVENT
DTSTART;VALUE=DATE:20210212
DTEND;VALUE=DATE:20210213
DTSTAMP:20260423T234719
CREATED:20210110T145616Z
LAST-MODIFIED:20210110T145616Z
UID:982-1613088000-1613174399@londonscouts.org.uk
SUMMARY:GSLs & Executive Members (Drop in)
DESCRIPTION:
URL:https://londonscouts.org.uk/event/gsls-executive-members-drop-in/
LOCATION:Zoom
CATEGORIES:Leaders Meetings,Optional Leader Drop In Sessions
END:VEVENT
BEGIN:VEVENT
DTSTART;VALUE=DATE:20210211
DTEND;VALUE=DATE:20210212
DTSTAMP:20260423T234719
CREATED:20210110T145534Z
LAST-MODIFIED:20210110T145534Z
UID:980-1613001600-1613087999@londonscouts.org.uk
SUMMARY:Scout & Explorer Leaders (Drop in)
DESCRIPTION:
URL:https://londonscouts.org.uk/event/scout-explorer-leaders-drop-in/
LOCATION:Zoom
CATEGORIES:Leaders Meetings,Optional Leader Drop In Sessions
END:VEVENT
BEGIN:VEVENT
DTSTART;VALUE=DATE:20210210
DTEND;VALUE=DATE:20210211
DTSTAMP:20260423T234719
CREATED:20210110T145505Z
LAST-MODIFIED:20210110T145505Z
UID:979-1612915200-1613001599@londonscouts.org.uk
SUMMARY:Beaver & Cub Leaders (Drop in)
DESCRIPTION:
URL:https://londonscouts.org.uk/event/beaver-cub-leaders-drop-in/
LOCATION:Zoom
CATEGORIES:Leaders Meetings,Optional Leader Drop In Sessions
END:VEVENT
BEGIN:VEVENT
DTSTART;VALUE=DATE:20210124
DTEND;VALUE=DATE:20210125
DTSTAMP:20260423T234719
CREATED:20210110T144644Z
LAST-MODIFIED:20210110T145240Z
UID:974-1611446400-1611532799@londonscouts.org.uk
SUMMARY:GSL Meeting
DESCRIPTION:
URL:https://londonscouts.org.uk/event/gsl-meeting-2/
LOCATION:Zoom
CATEGORIES:GSL Meetings,Leaders Meetings
END:VEVENT
BEGIN:VEVENT
DTSTART;VALUE=DATE:20210120
DTEND;VALUE=DATE:20210121
DTSTAMP:20260423T234719
CREATED:20210110T144041Z
LAST-MODIFIED:20210110T144606Z
UID:966-1611100800-1611187199@londonscouts.org.uk
SUMMARY:Full Exec Meeting
DESCRIPTION:
URL:https://londonscouts.org.uk/event/full-exec-meeting/
LOCATION:Zoom
CATEGORIES:Executive Meetings,Leaders Meetings
END:VEVENT
BEGIN:VEVENT
DTSTART;VALUE=DATE:20210105
DTEND;VALUE=DATE:20210106
DTSTAMP:20260423T234719
CREATED:20210110T143542Z
LAST-MODIFIED:20210110T143542Z
UID:963-1609804800-1609891199@londonscouts.org.uk
SUMMARY:All Leaders Meeting
DESCRIPTION:A leaders meeting for the whole district – please check your emails for more information nearer to the time.
URL:https://londonscouts.org.uk/event/all-leaders-meeting/
LOCATION:Zoom
CATEGORIES:All Leaders Meeting
END:VEVENT
END:VCALENDAR